BEGIN:VCALENDAR
VERSION:2.0
CALSCALE:GREGORIAN
PRODID:-//MyApp//Calendar 1.0//EN
BEGIN:VEVENT
METHOD:PUBLISH
UID:48489@regionalniportaly.cz
DTSTAMP:20260422T000400Z
DTSTART;VALUE=DATE:20250531
DTEND;VALUE=DATE:20250601
SUMMARY:Celý den s: Hana Sar Blochová
DESCRIPTION:Centrum JEDNA NOTA&nbsp\;na zámečku v&nbsp\;Přistoupimidne 31. 5. 2025Vás srdečně zve na celodenní akci&nbsp\;v romantické barokní usedlosti\, na zámečku v Přistoupimi 1&nbsp\;u Českého Brodu:CD s BytostíanebCelý Den s HANOU SAR BLOCHOVOU
LOCATION:Přistoupim
END:VEVENT
END:VCALENDAR