BEGIN:VCALENDAR
VERSION:2.0
CALSCALE:GREGORIAN
PRODID:-//MyApp//Calendar 1.0//EN
BEGIN:VEVENT
METHOD:PUBLISH
UID:48720@regionalniportaly.cz
DTSTAMP:20260422T035030Z
DTSTART;VALUE=DATE:20250329
DTEND;VALUE=DATE:20250330
SUMMARY:Football Talent Academy - PLES 2025
DESCRIPTION:Football Talent Academy Vás zve na PLES ROKU 2025!&nbsp\;Přijďte oslavit sportovní úspěchy a talent našich dětí s námi na&nbsp\;Football Talent Academy Ples 2025!&nbsp\;Co Vás čeká?Skvělá hudba a taneční vystoupení - Celou noc bude hrát kapela "Olympic Revival"Exkluzivní tombola s jedinečnými cenamiBohatá večeře a hodně tanceZábava až do ranních hodinPřijďte si užít večer plný elegance a oslavte s námi radost ze sportu! 🏆Těšíme se na Vás\, Football Talent Academy!&nbsp\;
LOCATION:Doubek
END:VEVENT
END:VCALENDAR