BEGIN:VCALENDAR
VERSION:2.0
CALSCALE:GREGORIAN
PRODID:-//MyApp//Calendar 1.0//EN
BEGIN:VEVENT
METHOD:PUBLISH
UID:48729@regionalniportaly.cz
DTSTAMP:20260422T033834Z
DTSTART;VALUE=DATE:20250329
DTEND;VALUE=DATE:20250330
SUMMARY:Košíkovský rokáč
DESCRIPTION:KD Košík vás všechny srdečně zve na zahájení festivalové sezóny\, s názvem Košíkovský ROKÁČ.Na akci vystoupí rocková skupina RAZZ a legendární skupina TELEGRAF rock.Doražte zapařit do kotle.Počet míst je omezen\, proto neotálejte a zakupte si včas svůj lupen.&nbsp\;Po celou dobu akce bude připraveno bohaté občerstvení\, drinky a pivko poteče proudem.TĚŠÍME SE!
LOCATION:Košík
END:VEVENT
END:VCALENDAR