BEGIN:VCALENDAR
VERSION:2.0
CALSCALE:GREGORIAN
PRODID:-//MyApp//Calendar 1.0//EN
BEGIN:VEVENT
METHOD:PUBLISH
UID:48855@regionalniportaly.cz
DTSTAMP:20260422T015822Z
DTSTART;VALUE=DATE:20250412
DTEND;VALUE=DATE:20250413
SUMMARY:Wohnout
DESCRIPTION:Wohnout - zase elektricky!Playlist budou tvořit ty největší hity\, ale chybět nebudou ani písně\, které posluchači ještě tolik neznají. Jako host vystoupí kamarádi z Maniac.&nbsp\;PŘEDKAPELAMANIAC je česká dance-rocková kapela\, která baví fanoušky všech generací svými vtipnými texty\, stadionovými refrény a ohromnou energií během živých vystoupení. Bratrské duo Jirky a Marka Barešových doplňuje bubeník Matěj Meier.20:00 - 23:00hod.&nbsp\;
LOCATION:Čelákovice
END:VEVENT
END:VCALENDAR