BEGIN:VCALENDAR
VERSION:2.0
CALSCALE:GREGORIAN
PRODID:-//MyApp//Calendar 1.0//EN
BEGIN:VEVENT
METHOD:PUBLISH
UID:49240@regionalniportaly.cz
DTSTAMP:20260422T055430Z
DTSTART;VALUE=DATE:20250112
DTEND;VALUE=DATE:20250113
SUMMARY:Pošťácká pohádka
DESCRIPTION:Naše pohádka vypráví příběh listonoše\, pana Kolbaby.I vy se tak\, společně s ním\, můžete na chvilku ocitnout ve světě skřítků\, loupežníků a nadpřirozených bytostí.Ano\, pošta je to místo\, kde se odehrávají vskutku neskutečné věci....Hraje DS TYL Čelákovice.
LOCATION:Čelákovice
END:VEVENT
END:VCALENDAR