BEGIN:VCALENDAR
VERSION:2.0
CALSCALE:GREGORIAN
PRODID:-//MyApp//Calendar 1.0//EN
BEGIN:VEVENT
METHOD:PUBLISH
UID:49261@regionalniportaly.cz
DTSTAMP:20260421T182613Z
DTSTART;VALUE=DATE:20250620
DTEND;VALUE=DATE:20250621
SUMMARY:ANTABUS MINIFEST 2025
DESCRIPTION:Malý metalový festival pro fajnšmekry! Pod českobrodskými vysílači zazní libé tóny kvalitní české metalové muziky. V rámci dvou dní vystoupí kapely Exorcizphobia\, Tortharry\, Kryptor\, Arawn\, Svinibrod\, Destroy!\, Deadroots\, Scabbard\, Aparath a Hellhawk. Nebude chybět ani vystoupí žáků z regionálních ZUŠ.
LOCATION:Chrášťany
END:VEVENT
END:VCALENDAR