BEGIN:VCALENDAR
VERSION:2.0
CALSCALE:GREGORIAN
PRODID:-//MyApp//Calendar 1.0//EN
BEGIN:VEVENT
METHOD:PUBLISH
UID:49700@regionalniportaly.cz
DTSTAMP:20260422T055349Z
DTSTART;VALUE=DATE:20250111
DTEND;VALUE=DATE:20250112
SUMMARY:OUDIV - Divadelní představení
DESCRIPTION:Vánoční bakaláři - komedie o tom\, co se o vánocích a během adventu může stát
LOCATION:Doubravčice
END:VEVENT
END:VCALENDAR