BEGIN:VCALENDAR
VERSION:2.0
CALSCALE:GREGORIAN
PRODID:-//MyApp//Calendar 1.0//EN
BEGIN:VEVENT
METHOD:PUBLISH
UID:49911@regionalniportaly.cz
DTSTAMP:20260422T074649Z
DTSTART;VALUE=DATE:20250201
DTEND;VALUE=DATE:20250202
SUMMARY:Zvláštním vlakem do pivovaru Bernard
DESCRIPTION:Zveme Vás na výlet zvláštním vlakem do Humpolce na prohlídku a posezení v rodinném pivovaru Bernard.
LOCATION:Lysá nad Labem
END:VEVENT
END:VCALENDAR