BEGIN:VCALENDAR
VERSION:2.0
CALSCALE:GREGORIAN
PRODID:-//MyApp//Calendar 1.0//EN
BEGIN:VEVENT
METHOD:PUBLISH
UID:50078@regionalniportaly.cz
DTSTAMP:20260422T074557Z
DTSTART;VALUE=DATE:20250126
DTEND;VALUE=DATE:20250127
SUMMARY:Tonka Šibenice
DESCRIPTION:Divadelní soubor Hostivice a Hostinec v Doubku&nbsp\;Uvadějí:&nbsp\;Tonka Šibeniceaneb pravdivý příběh lehké holky s&nbsp\;dobrým srdcemDle předlohy hry M. Macourka a povídky E. E. Kische upravila Jolana PetříkováJedná se o komedii z&nbsp\;prostředí pražské galerky z&nbsp\;počátku minulého století. V&nbsp\;představení uslyšíte také staropražské písně\, které si můžete zazpívat spolu s&nbsp\;Tonkou.Humorný i dojemný příběh známé pražské prostitutky Antonie Havlové\, řečené Tonky Šibenice\,&nbsp\;která stanula u&nbsp\;Posledního Soudu\, kde se rozhoduje o&nbsp\;jejím životě a její cestě do ráje\, nebo do věčného zatracení…Několikrát soudně trestaná prostitutka\, která strávila noc s příšerným vrahem Prokůpkem před jeho oběšením\, aby splnila jeho poslední přání\, je skutečná postava pražské galerky.&nbsp\;Vyprávění jejího životního příběhu je připomenutím\, že nemáme nikoho soudit\, pokud neznáme pozadí jeho činů.DÉLKA PŘEDSTAVENÍ: 55 minut\, hraje se bez přestávkyREŽIE\, DRAMATURGIE\, SCÉNA: Jolana PetříkováSVĚTLA\, ZVUK: Radovan SegetOSOBY A OBSAZENÍ:Tonka: Pavlína JonášováPan Rada\, hlas: Jiří PloyharPan Předseda\, hlas: Lukáš VaculíkHudební doprovod\, viola: Barbara Lenská
LOCATION:Doubek
END:VEVENT
END:VCALENDAR