BEGIN:VCALENDAR
VERSION:2.0
CALSCALE:GREGORIAN
PRODID:-//MyApp//Calendar 1.0//EN
BEGIN:VEVENT
METHOD:PUBLISH
UID:50322@regionalniportaly.cz
DTSTAMP:20260421T220503Z
DTSTART;VALUE=DATE:20250523
DTEND;VALUE=DATE:20250524
SUMMARY:Ladislav Weyrostek 60 let na hudební scéně
DESCRIPTION:KD Čelákovice pod záštitou starosty města Josefa Pátka uvádí koncert - Ladislav Weyrostek 60 let na hudební scéně.
LOCATION:Čelákovice
END:VEVENT
END:VCALENDAR