BEGIN:VCALENDAR
VERSION:2.0
CALSCALE:GREGORIAN
PRODID:-//MyApp//Calendar 1.0//EN
BEGIN:VEVENT
METHOD:PUBLISH
UID:50643@regionalniportaly.cz
DTSTAMP:20260421T183249Z
DTSTART;VALUE=DATE:20250607
DTEND;VALUE=DATE:20250608
SUMMARY:Doubek City Fight Night 2
DESCRIPTION:Tradiční galavečer amatérského boxu a K1
LOCATION:Škvorec
END:VEVENT
END:VCALENDAR