BEGIN:VCALENDAR
VERSION:2.0
CALSCALE:GREGORIAN
PRODID:-//MyApp//Calendar 1.0//EN
BEGIN:VEVENT
METHOD:PUBLISH
UID:50724@regionalniportaly.cz
DTSTAMP:20260422T035322Z
DTSTART;VALUE=DATE:20250315
DTEND;VALUE=DATE:20250316
SUMMARY:Ples městyse Škvorec 2025
DESCRIPTION:Městys Škvorec vás zve na svůj&nbsp\;společenský ples.Téma plesu:&nbsp\;Casino.V průběhu večera se můžete těšit na bohatou tombolu (tombolenky jsou v ceně vstupenky)\, pestrý doprovodní program a&nbsp\;nevšední půlnoční překvapení v podání Ilusias.K tanci a poslechu nám&nbsp\;zahraje&nbsp\;hudební a taneční skupina&nbsp\;GurmaniaBand.Vstup pouze ve společenském oděvu.Vstupenky v ceně 300 kč jsou&nbsp\;k dipozici pouze zde v&nbsp\;online předprodeji\, na smsticket portálu. Vyberte si prosím místo dle přiloženého plánku.&nbsp\;Vstup do&nbsp\;sálu sokolovny bude možný od&nbsp\;19:00Hudební produkce a&nbsp\;doprovodné akce od&nbsp\;20:00Konec plesu 16.&nbsp\;3.&nbsp\;2025&nbsp\;v&nbsp\;02:00
LOCATION:Škvorec
END:VEVENT
END:VCALENDAR