BEGIN:VCALENDAR
VERSION:2.0
CALSCALE:GREGORIAN
PRODID:-//MyApp//Calendar 1.0//EN
BEGIN:VEVENT
METHOD:PUBLISH
UID:50743@regionalniportaly.cz
DTSTAMP:20260422T035143Z
DTSTART;VALUE=DATE:20250329
DTEND;VALUE=DATE:20250330
SUMMARY:Stand-up Comedy Show ROZJETÝ BRÁNICE (Velký Osek)
DESCRIPTION:Zveme vás na pořádnou Stand-up comedy show v Restauraci U&nbsp\;Jezera ve Velkém Oseku!Vystoupí pro vás komediální duo&nbsp\;ROZJETÝ BRÁNICE!&nbsp\;Tuhle dvojku tvoří:David Klouda&nbsp\;–&nbsp\;Bývalý 160kilový cvalík\, který bůhvíproč nikdy nedělal sumo. I když hodně zhubnul\, stále je hrdým tlouštíkem a také o váze bude jeho stand-up.Karel Petrdlík&nbsp\;– Neřízená střela\, která nemluví jen ve chvíli\, kdy se nadechuje k dalšímu mluvení.Jako hosté vystoupí také&nbsp\;Bára Köttová&nbsp\;a&nbsp\;Marek Boško.Přijďte se pobavit\, na tenhle večer jen tak nezapomenete!Počet lístků je omezen\, na místě už možná nebudou k dostání. Doporučujeme je koupit v předprodeji.Humoru zdar a těšíme se na vás!
LOCATION:Velký Osek
END:VEVENT
END:VCALENDAR