BEGIN:VCALENDAR
VERSION:2.0
CALSCALE:GREGORIAN
PRODID:-//MyApp//Calendar 1.0//EN
BEGIN:VEVENT
METHOD:PUBLISH
UID:50907@regionalniportaly.cz
DTSTAMP:20260421T112545Z
DTSTART;VALUE=DATE:20251030
DTEND;VALUE=DATE:20251031
SUMMARY:Zdeněk Izer - Vyndavací zas tam dací
DESCRIPTION:Zábavný pořad\, ve&nbsp\;kterém se diváci budou moci&nbsp\; setkat s jedinečným a nezaměnitelným&nbsp\;humorem Zdeňka Izera.Jako vždy přijdou na řadu oblíbené zábavné scénky\,&nbsp\;parodie\, mnoho skvělých vtipů. Vystoupení&nbsp\;je opět obohacené&nbsp\;videoprojekcemi\, nejrůznějšími zábavnými kostýmy\, převleky a&nbsp\;světelnými efekty .Nenechte si ujít tuto jedinečnou „one man show“ našeho nejpopulárnějšího baviče.
LOCATION:Čelákovice
END:VEVENT
END:VCALENDAR