BEGIN:VCALENDAR
VERSION:2.0
CALSCALE:GREGORIAN
PRODID:-//MyApp//Calendar 1.0//EN
BEGIN:VEVENT
METHOD:PUBLISH
UID:51126@regionalniportaly.cz
DTSTAMP:20260421T162356Z
DTSTART;VALUE=DATE:20251110
DTEND;VALUE=DATE:20251111
SUMMARY:Kafe u OSMANYHO | Jesenice
DESCRIPTION:Originální zábavný pořad&nbsp\;populárního módního návrháře kubánského původu Osmanyho Laffity.Mnohdy neuvěřitelné historky ze života Osmanyho Laffity\,&nbsp\;při kterých se divák baví od první chvíle. Život Osmanyho je totiž velmi pestrý a co jiný nezažijí za celý život\, on už dávno zvládnul.Moderuje: Eva DecasteloÚčinkují: Osmany Laffita
LOCATION:Jesenice
END:VEVENT
END:VCALENDAR