BEGIN:VCALENDAR
VERSION:2.0
CALSCALE:GREGORIAN
PRODID:-//MyApp//Calendar 1.0//EN
BEGIN:VEVENT
METHOD:PUBLISH
UID:51172@regionalniportaly.cz
DTSTAMP:20260422T035050Z
DTSTART;VALUE=DATE:20250221
DTEND;VALUE=DATE:20250222
SUMMARY:Květinový ples
DESCRIPTION:Květinový ples\npořáda MAS Střední Polabí\nkdy: 21.2.2025 od 18 hodin\nkde: Charvátův statek\, Zápy\nza kolik: 490\,- Kč\nprogram: předtančení\, módní přehlídka\, aukce\, tombola\nhraje: Gurmania band\nmoderuje:Radek Hrdlička\nvstuprnky na: polankova@strednipolabi.cz\nnebo +420 725 406 047\n 
LOCATION:Zápy
END:VEVENT
END:VCALENDAR