BEGIN:VCALENDAR
VERSION:2.0
CALSCALE:GREGORIAN
PRODID:-//MyApp//Calendar 1.0//EN
BEGIN:VEVENT
METHOD:PUBLISH
UID:51231@regionalniportaly.cz
DTSTAMP:20260421T201748Z
DTSTART;VALUE=DATE:20250514
DTEND;VALUE=DATE:20250515
SUMMARY:Pan Zbytečný - Komediálně hudební příběh
DESCRIPTION:Pan&nbsp\;ZBYTEČNÝKomediální hudební příběh ze života českého důchodce...TŘI ZÁŽITKY ZA JEDNU CENU&nbsp\;&nbsp\;&nbsp\;&nbsp\;&nbsp\;&nbsp\;&nbsp\;&nbsp\;&nbsp\;&nbsp\;&nbsp\;&nbsp\;&nbsp\;&nbsp\;&nbsp\;&nbsp\;&nbsp\;&nbsp\;&nbsp\;PŘEDSTAVENÍ\, VEČEŘE\, KONCERT&nbsp\;Někdy se to schumelí a vše je rázem v ……S&nbsp\;laskavým\, byť trochu hořkým humorem a s řadou nejslavnějších country hitů\,&nbsp\;&nbsp\;v&nbsp\;živém koncertu&nbsp\;&nbsp\;Tomáše Linky\, nahlédneme do života novopečeného důchodce ing. arch. Jaroslava Zbytečného. Krkolomný pád uznávaného odborníka z&nbsp\;výšin VIP smetánky na dno společnosti\, provází řada tragikomických situací\, které téměř všichni známe z&nbsp\;běžného života. Potkáme se s arogantními úředníky\, hamižnou developerkou i s pomstychtivým exekutorem. Se stoickým klidem životem opraskaného seniora\, přijímá pan Zbytečný jak rány osudu\, tak i nečekané zvraty…&nbsp\;Holt je jak je\, a bude jak bude.Cesta vodopádem průšvihů nás zavede až k&nbsp\;břehům řeky Sázavy\, kde nezlomný důchodce hledá pomoc mezi starými kamarády. Pochodí či nepochodí?&nbsp\;&nbsp\;Jak to všechno dopadne?&nbsp\;Možná ….. se to zase&nbsp\;jinak&nbsp\;schumelí a jeho život bude znovu veselí…&nbsp\;Toto vše vás čeká v&nbsp\;našem divadelním Hostinci v&nbsp\;Doubku.&nbsp\;Nikde jinde se nesetkáte s&nbsp\;tak svéráznou atmosférou venkovské hospody ve stylu Formanova filmu „Hoří má panenko“\, neochutnáte tak skvělé kuřecí paličky s&nbsp\;pikantními omáčkami\, a nezažijete tak intenzivní prožitek z&nbsp\;obyčejné lidské sounáležitosti.Chcete se pořádně zasmát? Chcete se&nbsp\;na chvíli vrátit do časů svého mládí a oživit vzpomínky na nezapomenutelné koncerty Greenhornů\, Fešáků či Zelenáčů?&nbsp\;Neváhejte!Přijeďte s&nbsp\;námi pobýt. Nikde jinde se nepobavíte a nenajíte tak\, jako u nás.
LOCATION:Doubek
END:VEVENT
END:VCALENDAR