BEGIN:VCALENDAR
VERSION:2.0
CALSCALE:GREGORIAN
PRODID:-//MyApp//Calendar 1.0//EN
BEGIN:VEVENT
METHOD:PUBLISH
UID:51257@regionalniportaly.cz
DTSTAMP:20260422T075545Z
DTSTART;VALUE=DATE:20250216
DTEND;VALUE=DATE:20250302
SUMMARY:Příběh lásky: 60 společných let Marie a Alexandra
DESCRIPTION:Příběh lásky: 60 společných let Marie a Alexandra\nZámek Loučeň\nLáska hýbe světem\, spojuje lidi napříč kulturami a generacemi\, nastoluje v přírodě řád a harmonii. Zima pomalu končí\, a kdy jindy vyprávět příběh jedné velké lásky než před pukáním prvního kvítí.\nPříběh lásky je poutavá historická prohlídka z doby Rakouska-Uherska a první republiky. Vypráví osudy manželského páru knížete Alexandra a kněžny Marie Thurn-Taxis\, který na zámku Loučeň strávil neuvěřitelných 59 let. Vychovali zde společně 3 syny\, měli 12 vnoučat\, a dokonce se dožili i pravnoučátek.\nPoznejte lásku všemi smysly\nPřipravili jsme pro vás autentické prohlídky v dobových kostýmech\, zazní tóny klasické hudby\, uslyšíte nejkrásnější zamilované verše a ucítíte příjemnou vůni exotického jídla. Přijďte k nám na Zámek Loučeň poznat historii skrze současný pohled a převzít inspiraci!\nPříběh lásky můžete navštívit od soboty 1. února do neděle 2. března 2025. \nProhlídky probíhají ve všední dny ve 12:00\, 14:00 a 16:00.\nO víkendech jsou prohlídky každou hodinu od 11:00 do 16:00. \nPark lásky\nRomantická procházka zámeckým parkem a krásné dekorace nejen pro zamilované denně 10:00 - 19:00 hod. \n"Světla lásky" - ještě větší romantika - nasvícený zámecký park\, obří loučeňské srdce s anděly\, kočár tažený koněm\, zamilovaný pár\, rozzářené tisové bludiště se vznášejícím se srdcem\, tajuplně nasvícený kamenný labyrint\, ..... denně 17:00 - 19:00 hod\, pátek. sobota 18:00 světelno-hudební show. \n 
LOCATION:Loučeň
END:VEVENT
END:VCALENDAR