BEGIN:VCALENDAR
VERSION:2.0
CALSCALE:GREGORIAN
PRODID:-//MyApp//Calendar 1.0//EN
BEGIN:VEVENT
METHOD:PUBLISH
UID:51643@regionalniportaly.cz
DTSTAMP:20260422T035213Z
DTSTART;VALUE=DATE:20250316
DTEND;VALUE=DATE:20250317
SUMMARY:Představení - Limonádový Joe
DESCRIPTION:Nechte se okouzlit atmosférou Divokého západu!Divadelní spolek Sklerotik z Křenov na Domažlicku vás srdečně zve na jedinečné divadelní představení legendární české komedie Limonádový Joe. Přijďte se s námi přenést do zapadlého městečka Stetson City\, kde se neohrožený hrdina s kolty proklatě nízko a lahví Kolalokovy limonády v ruce snaží nastolit pořádek. Čeká vás strhující příběh plný napětí\, humoru a nezapomenutelných postav. Zažijete souboje\, přestřelky a romantické zápletky\, které vás nenechají vydechnout. Nechte se unést skvělými hereckými výkony místních ochotníků\, dobovými kostýmy a autentickými kulisami. Ať už si dáte Kolalokovu limonádu nebo Trigger whisky\, zábava je zaručena!Představení se koná v neděli 16. března v 16:00 hodin v Hostinci v Doubku\, Doubek u Říčan.Přijďte strávit příjemné odpoledne v dobré společnosti a zažijte jedinečnou atmosféru Divokého západu.&nbsp\;Těšíme se na vás!
LOCATION:Doubek
END:VEVENT
END:VCALENDAR