BEGIN:VCALENDAR
VERSION:2.0
CALSCALE:GREGORIAN
PRODID:-//MyApp//Calendar 1.0//EN
BEGIN:VEVENT
METHOD:PUBLISH
UID:52311@regionalniportaly.cz
DTSTAMP:20260422T035153Z
DTSTART;VALUE=DATE:20250328
DTEND;VALUE=DATE:20250329
SUMMARY:Představení - Není důvod umírat
DESCRIPTION:DIvadelní představeniNení důvod umírat&nbsp\;Divadelního souboboru&nbsp\;Klicpera SadskáNení důvod umírat je komediální thriller z pera oceňovaného amerického spisovatel Michaela A. Millera\, kterou jsme si našli\, následně přeložili a tím i jako první v České republice uvedli. Inscenace získala řadu cen na přehlídce Klicperovy divadelní dny 2024 a postoupila na divadelní přehlídku Krakonošův divadelní podzim ve Vysokém nad Jizerou 2024.O ději: Scénárista Tom prožívá tvůrčí krizi a manželka Klára mu svým sarkasmem zrovna nepomáhá. Ke všemu ho tajně podvádí s jeho kamarádem Albertem. Ke všemu se jim do života plete nová všetečná sousedka Nina. Jednoho dne Tom dostane nápad na parádní thriller o nevěře. Námět je prostý: Muž zjistí\, že ho žena podvádí a pozve jejího milence na večeři\, aby je oba zavraždil. Je to náhoda?
LOCATION:Doubek
END:VEVENT
END:VCALENDAR