BEGIN:VCALENDAR
VERSION:2.0
CALSCALE:GREGORIAN
PRODID:-//MyApp//Calendar 1.0//EN
BEGIN:VEVENT
METHOD:PUBLISH
UID:52666@regionalniportaly.cz
DTSTAMP:20260422T075956Z
DTSTART;VALUE=DATE:20250419
DTEND;VALUE=DATE:20250420
SUMMARY:ZÁMEK KŘINEC | dětská prohlídka
DESCRIPTION:Zámek KřinecRodinný zámek ze 17. století nacházející se pouhou hodinu jízdy od Prahy ve Středočeském kraji je ideálním místem pro ty\, kteří hledají unikátní prostředí pro svou svatbu\, oslavu\, firemní akci nebo jinou společenskou událost.Dětské prohlídky křineckého zámku jsou určené pro děti ve věku 3 - 8 let v doprovodu rodičů. Děti si prohlédnou zámek zábavnou formou a třeba se i něco nového naučí :-).Délka prohlídky je zhruba 30-40&nbsp\;minut.
LOCATION:Křinec
END:VEVENT
END:VCALENDAR