BEGIN:VCALENDAR
VERSION:2.0
CALSCALE:GREGORIAN
PRODID:-//MyApp//Calendar 1.0//EN
BEGIN:VEVENT
METHOD:PUBLISH
UID:52712@regionalniportaly.cz
DTSTAMP:20260421T164330Z
DTSTART;VALUE=DATE:20250612
DTEND;VALUE=DATE:20250613
SUMMARY:Fashion day ve mlýně
DESCRIPTION:Jedinečná módní přehlídka v Buškovském mlýně. Užijte si krásnou akci v blízkosti ikonických Prachovských skal!Dveře se vám otevřou v 15:00 kdy si budete moct nakoupit módu\, doplňky a šperky české výrobyod 18:00 startuje módní přehlídka a kulturní program\, čeká vás welcome drink v ceně vstupenky.&nbsp\;MÓDNÍ PŘEHLÍDKY:Šárka Ordošová - svatební a společenské šatyWerso - luxusní spodní prádlo spolu s ručně vyrobenými českými šperky FABOSAnsvea - šaty a plavky k mořiSanzi Poli - kabelky ze skleněných korálkůMarilan fashionfun - móda pro ženy všech generacíNesunno fitness - sportovní a funkční oblečeníFABOS - české ručně vyráběné šperkyHostem večera\, která se představí i jako modelka bude známá herečka a dabérka Regina Řandová. Na mole uvidíte i úspěšnou cukrářku Ivku Fitbake Zazpívají Barbora Mottlová a Markéta Pouličková. Celým večerem vás bude provádět moderátorka a herečka Simona Mikešová.Mediálním partnerem akce je společnost Jsme úspěšní.Na místě si budete moct zakoupit krásné šperky i oblečení\, podpořit charitu Dortem proti Rakovině&nbsp\;nebo si dát něco dobrého z připraveného občerstvení! Těšíme se na vás
LOCATION:Dolní Bousov
END:VEVENT
END:VCALENDAR