BEGIN:VCALENDAR
VERSION:2.0
CALSCALE:GREGORIAN
PRODID:-//MyApp//Calendar 1.0//EN
BEGIN:VEVENT
METHOD:PUBLISH
UID:52757@regionalniportaly.cz
DTSTAMP:20260421T222048Z
DTSTART;VALUE=DATE:20250426
DTEND;VALUE=DATE:20250427
SUMMARY:ZÁMEK KŘINEC | komentované prohlídky
DESCRIPTION:Zámek KřinecRodinný zámek ze 17. století nacházející se pouhou hodinu jízdy od Prahy ve Středočeském kraji je ideálním místem pro ty\, kteří hledají unikátní prostředí pro svou svatbu\, oslavu\, firemní akci nebo jinou společenskou událost.Prohlídka křineckého zámku\, to je jedno velké vyprávění o velmi turbulentní historii šlechtických rodů\, které zámek v průběhu staletí postupně vlastnily a také ztratily. Jedná se o příběh vzletů\, pádů a skoro definitivním zániku této mimořádně skvostné památky\, která se díky nezměrnému úsilí současných majitelů\, dochovala pro nás\, a dochová se také generacím příštím.&nbsp\;
LOCATION:Křinec
END:VEVENT
END:VCALENDAR