BEGIN:VCALENDAR
VERSION:2.0
CALSCALE:GREGORIAN
PRODID:-//MyApp//Calendar 1.0//EN
BEGIN:VEVENT
METHOD:PUBLISH
UID:52817@regionalniportaly.cz
DTSTAMP:20260421T201702Z
DTSTART;VALUE=DATE:20250501
DTEND;VALUE=DATE:20250502
SUMMARY:Historickým vlakem do Žďáru nad Sázavou
DESCRIPTION:Zveme Vás na výlet retrovlakem z Prahy přes Kolín do Žďáru nad Sázavou. Vlak bude veden motorovou lokomotivou 751 “Bardotka”\, která poveze RETRO rychlíkové vozy. Navštivte hvězdu Vysočiny – Žďár nad Sázavou s unikátním kostelem na Zelené Hoře\, jedno z největších modelových kolejišť nebo strojírenskou společnost ŽĎAS v rámci DOD.\n \nTipy na výlet:\n\nPoutní kostel sv. Jana Nepomuckého na Zelené Hoře\nZámek Žďár nad Sázavou\nModelové království – 600 m kolejí\, 70 vlaků\nDen otevřených dveří ŽĎAS\nPivovar Revolta\n\nNávrh jízdního řádu:Praha hl. n. 8:00 – Praha-Vysočany 8:10 – Lysá nad Labem 8:30 – Kolín 9:00 – Kutná Hora hl. n. 9:10 – Čáslav 9:20 – Žďár nad Sázavou 10:30\nŽďár nad Sázavou 16:30 – Čáslav 17:40 – Kutná Hora hl. n. 17:50 – Kolín 18:00 – Lysá nad Labem 18:30 – Praha-Vysočany 18:50 – Praha hl. n. 19:00
LOCATION:Čelákovice
END:VEVENT
END:VCALENDAR