BEGIN:VCALENDAR
VERSION:2.0
CALSCALE:GREGORIAN
PRODID:-//MyApp//Calendar 1.0//EN
BEGIN:VEVENT
METHOD:PUBLISH
UID:52904@regionalniportaly.cz
DTSTAMP:20260421T125828Z
DTSTART;VALUE=DATE:20251007
DTEND;VALUE=DATE:20251008
SUMMARY:Oko tygra
DESCRIPTION:Komorní divadlo KalichKomedie jednoho herce o krizi středního věku.&nbsp\;„Pojďme si hned něco ujasnit\, jen proto\, že jsem za posledních sedm měsíců chodil se šesti ženami a jen proto\, že jsem si koupil ojetý Porsche a že jsem začal chodit do posilovny… a trávím čas na Tinderu... to neznamená\, že prožívám krizi středního věku!“Markus Malin se rozvedl\, našel si mladou přítelkyni a koupil sportovní auto\, začal chodit do solária a boxerského klubu a teď po sedmi měsících může zodpovědně říct\, že… euforie vyprchala a on by se rád vrátil ke své ženě Marion a dětem. Ti ovšem mají zásadní podmínku. Okamžitě začne chodit na terapii proti krizi středního věku.&nbsp\; Jak směšné!Autor nechává svého hrdinu bezohledně otevřeně\, bezostyšně upřímně\, ale především vtipně vyprávět o tom\, co žádný chlap nepřizná jenom tak. Nevynechává při tom ani leckteré tabu\, jako např. sex v manželství. Je to ironické a pravdivé nastavení zrcadla - mužům i ženám.Herecké obsazení:Markus Malin:&nbsp\;Marek NěmecMarion (hlas ze záznamu):&nbsp\;Helena DvořákováTvůrciAutor:&nbsp\;Stefan VögelPřeklad:&nbsp\;Iva MichňováRežie:&nbsp\;Jakub NvotaScéna a kostýmy:&nbsp\;Miroslav KrálProducent:&nbsp\;Michal Mazač&nbsp\;Délka představení:&nbsp\;100 min. včetně přestávky.Vstupné: 540/ 470/ 400 Kč.
LOCATION:Čelákovice
END:VEVENT
END:VCALENDAR