BEGIN:VCALENDAR
VERSION:2.0
CALSCALE:GREGORIAN
PRODID:-//MyApp//Calendar 1.0//EN
BEGIN:VEVENT
METHOD:PUBLISH
UID:52976@regionalniportaly.cz
DTSTAMP:20260421T145024Z
DTSTART;VALUE=DATE:20250727
DTEND;VALUE=DATE:20250728
SUMMARY:Pohádková stezka /  Brandýs nad Labem
DESCRIPTION:🌟 Nejoblíbenější pohádková stezka míří do Brandýsa nad Labem! 🌟Potkejte své oblíbené pohádkové kamarády!🎉Na trase Vás čekají zábavné úkoly pro děti\, ale také Vaši oblíbení pohádkový kamarádi třeba z Tlapkové patroly\, Ledového království\,&nbsp\; králíčka Binga a mnoha dalších kamarádů\, které vaše děti zbožňují.&nbsp\;Nenechte si ujít tento jedinečný pohádkový zážitek s Vašimi dětmi.&nbsp\;👧 Vhodné pro děti ve věku 2–7 let📅 Datum: 27. 07. 2025⏰ Čas: Najdete na své zakoupené vstupence📍 Místo: Císařské lesy\, u Brandýs nad Labem - Káraný (ul. Větrná)🚩 Start: https://mapy.cz/s/nukavekodu&nbsp\;🚨 POZOR\, POZOR! 🚨Poslední start pohádkové stezky je ve&nbsp\;12:00–12:10Po tomto čase již&nbsp\;nebude možné vstoupit na trasu\, dorazte včas! ⏰&nbsp\;Po příchodu se prosím zaregistrujte u našeho stánku.
LOCATION:Káraný
END:VEVENT
END:VCALENDAR