BEGIN:VCALENDAR
VERSION:2.0
CALSCALE:GREGORIAN
PRODID:-//MyApp//Calendar 1.0//EN
BEGIN:VEVENT
METHOD:PUBLISH
UID:53086@regionalniportaly.cz
DTSTAMP:20260421T222029Z
DTSTART;VALUE=DATE:20250501
DTEND;VALUE=DATE:20250502
SUMMARY:ZÁMEK KŘINEC | prvomájové prohlídky
DESCRIPTION:Zámek KřinecRodinný zámek ze 17. století nacházející se pouhou hodinu jízdy od Prahy ve Středočeském kraji je ideálním místem pro ty\, kteří hledají unikátní prostředí pro svou svatbu\, oslavu\, firemní akci nebo jinou společenskou událost.Prvomájová prohlídka vás přenese do historie zámku s přímesí romantiky :-). V zámecké kavárně na vás čeká prvomájové menu a po celý den bude probíhat swap rostlin a květin\, aneb přineste svou kytičku či řízek a odneste si jiný.&nbsp\;A nesmíme zapomenout na rozkvetlou třešeň\, která čeká na vaše polibky!&nbsp\;
LOCATION:Křinec
END:VEVENT
END:VCALENDAR