BEGIN:VCALENDAR
VERSION:2.0
CALSCALE:GREGORIAN
PRODID:-//MyApp//Calendar 1.0//EN
BEGIN:VEVENT
METHOD:PUBLISH
UID:53100@regionalniportaly.cz
DTSTAMP:20260421T145051Z
DTSTART;VALUE=DATE:20250907
DTEND;VALUE=DATE:20250908
SUMMARY:Na zámku s Davidem Novotným
DESCRIPTION:Zámek Humprecht&nbsp\;ožije vyprávěním jednoho z nejoblíbenějších českých herců. David Novotný zavzpomíná na své herecké začátky\, prozradí\, jak se mu hrálo v populárních seriálech a filmech\, a podělí se o humorné historky ze života. V jedinečné atmosféře historického zámku se můžete těšit na neformální rozhovor s Jiřím Vaníčkem.Po skončení proběhne autogramiáda.
LOCATION:Sobotka
END:VEVENT
END:VCALENDAR