BEGIN:VCALENDAR
VERSION:2.0
CALSCALE:GREGORIAN
PRODID:-//MyApp//Calendar 1.0//EN
BEGIN:VEVENT
METHOD:PUBLISH
UID:53239@regionalniportaly.cz
DTSTAMP:20260422T035040Z
DTSTART;VALUE=DATE:20250413
DTEND;VALUE=DATE:20250414
SUMMARY:Filozofování s Marianem Jelínkem & Pjérem la Šé'zem
DESCRIPTION:Otevíráme třetí ročník série Filozofování na zámku Berchtold\, kde se opět potkají lidé\, kteří se nebojí klást otázky\, dívat se na svět z různých úhlů a sdílet svou moudrost\, zvědavost i humor.Hostitelem večera je Marian Jelínek\, který si zve hosty napříč obory – od psychologie přes filozofii až po umění a sport.Prvním hostem letošního ročníku bude Pjér la Šé’z – klinický psycholog\, spisovatel\, herec a hudebník. Čeká vás živé a hluboké setkání dvou osobností\, které umí spojit intelekt s lidskostí.Akce je komorní – pro maximálně 80 osob\, aby si zachovala intimní atmosféru. Můžete se zapojit\, ptát se\, nebo jen tiše naslouchat. Vzniká tím jedinečný prostor pro inspiraci\, sdílení a péči o duši.Zámek Berchtold dodává setkání noblesní\, ale přesto útulnou kulisu. Doporučujeme přijet s předstihem\, projít se parkem\, dát si něco dobrého v místní restauraci a naladit se na večerní program.Host: Pjér la Šé’zPsycholog\, herec\, hudebník a spisovatel. Věnuje se soukromé psychoterapeutické praxi a doprovází své klienty na cestě k osobní svobodě. Spolupracuje s Jaroslavem Duškem (Čtyři dohody\, Pátá dohoda)\, vystupuje v představení Škola Malého stromu a hraje v kapele Rakousko-Uhersko.Je autorem knih Indián – zpráva o archetypu\, Den svatého Ignora\, Cesta a Psychologie souhlasu. Tématem jeho tvorby jsou hranice a možnosti lidského bytí.Hostitel: Marian JelínekSportovní trenér\, mentální kouč\, odborník na motivaci a manažerský přístup. Marian je známý svým hlubokým zájmem o psychologii a filozofii\, které propojuje se světem vrcholového sportu i byznysu.Má doktorát z kinantropologie\, v minulosti působil jako trenér hokejových týmů v Česku i zahraničí. Mezi jeho největší úspěchy patří titul mistra světa z MS 2005 ve Vídni\, dva extraligové tituly s HC Sparta Praha či vítězství s HC Plzeň. Proslavil se také jako dlouholetý kouč Jaromíra Jágra.Přednáší\, školí a inspiruje manažery i sportovce. Je garantem studijního zaměření Psychologie pro manažery na NEWTON University.
LOCATION:Kunice
END:VEVENT
END:VCALENDAR