BEGIN:VCALENDAR
VERSION:2.0
CALSCALE:GREGORIAN
PRODID:-//MyApp//Calendar 1.0//EN
BEGIN:VEVENT
METHOD:PUBLISH
UID:53293@regionalniportaly.cz
DTSTAMP:20260421T144854Z
DTSTART;VALUE=DATE:20250802
DTEND;VALUE=DATE:20250803
SUMMARY:Zábavný kvíz na zámku Křinec | Slavné osobnosti
DESCRIPTION:Zábavné kvízy se na zámku Křinec těší velké oblibě\, proto i letos přinášíme dalších šest soutěžních večerů na různá témata.&nbsp\;TÉMATA SOUTĚŽNÍCH VEČERŮ:3. 5. | 100 českých nej7. 6. | 4 živly4. 7. | Retro2. 8. |Slavné osobnosti6. 9. | Záhady a konspirace4.10. | Pohádky a filmy&nbsp\;6 soutěžních večerů | 6 výherců | 1 absolutní vítěz | 2-4členné týmyHlavní cenou je noc v zámeckém apartmá pro celý tým!&nbsp\;www.zamekkrinec.cz
LOCATION:Křinec
END:VEVENT
END:VCALENDAR