BEGIN:VCALENDAR
VERSION:2.0
CALSCALE:GREGORIAN
PRODID:-//MyApp//Calendar 1.0//EN
BEGIN:VEVENT
METHOD:PUBLISH
UID:53363@regionalniportaly.cz
DTSTAMP:20260421T220421Z
DTSTART;VALUE=DATE:20250514
DTEND;VALUE=DATE:20250515
SUMMARY:Co se skrývá na půdě
DESCRIPTION:Základní umělecká škola Čelákovice p. o. uvádí&nbsp\; představení žáků a absolventů tanečního oboru ZUŠ.Námět a scénář: Alena SmržováChoreografie : Kateřina Stupecká\, Alena SmržováTančí: žáci a žákyně I. a II. stupně tanečního oboru ZUŠ.Vstupné: 200 Kč.&nbsp\;&nbsp\;
LOCATION:Čelákovice
END:VEVENT
END:VCALENDAR