BEGIN:VCALENDAR
VERSION:2.0
CALSCALE:GREGORIAN
PRODID:-//MyApp//Calendar 1.0//EN
BEGIN:VEVENT
METHOD:PUBLISH
UID:54089@regionalniportaly.cz
DTSTAMP:20260421T201713Z
DTSTART;VALUE=DATE:20250622
DTEND;VALUE=DATE:20250623
SUMMARY:Renesanční slavnost
DESCRIPTION:AKCE PRO CELOU RODINUOživené prohlídky věže tvrze s průvodcem a renesanční hudbouO třech princích a živé vodě - představení v zahradě od 11:00\,Rytířská pohádka od 14:30 hodinO zvířátkách a medvědu od 16:00 hodinJízda na sicilských oslících\,jarmark\,&nbsp\;občerstevní\, picnic\,víno\, sýry\,delikatesy\,káva Olla\, skvělé domácí limonády\,Výtvarné dílny pro děti i dospělé..Nevšední odpoledne v bílém - vítány i Vaše kostýmy nebo historizující prvky.&nbsp\;&nbsp\;
LOCATION:Tuchoraz
END:VEVENT
END:VCALENDAR