BEGIN:VCALENDAR
VERSION:2.0
CALSCALE:GREGORIAN
PRODID:-//MyApp//Calendar 1.0//EN
BEGIN:VEVENT
METHOD:PUBLISH
UID:54295@regionalniportaly.cz
DTSTAMP:20260421T182808Z
DTSTART;VALUE=DATE:20250807
DTEND;VALUE=DATE:20250808
SUMMARY:Vojtěch Dyk: Intimity s klavírem na zámku Liblice
DESCRIPTION:7. srpna se z Mělníka přesuneme do nedalekých Liblic. V zahradě tamějšího zámku se představí jeden z nejznámějších českých zpěváků Vojtěch Dyk s klavírem Jana Maxiána.\nJeden z nejpopulárnějších a nejvýraznějších českých zpěváku odehraje v rámci svého sólového vystoupení s názvem Intimity písně autorské\, převzaté\, české i zahraniční\, popové\, šansonové\, muzikálové\, ale i z klasického žánru. Unikátní atmosféru koncertu ještě více podtrhnou krásné exteriéry zámeckého parku v Liblicích. Zámek totiž patří mezi nejkrásnější a nejzachovalejší památky českého vrcholného baroka.\nAreál se otevírá v 18:00. Koncert pod širým nebem začne v 19:00.\nVIP místa jsou k sezení (nečíslovaná – 5. řad)\, ostatní místa jsou ke stání.\nVstupenky jsou k zakoupení exkluzivně v síti GoOut
LOCATION:Liblice
END:VEVENT
END:VCALENDAR