BEGIN:VCALENDAR
VERSION:2.0
CALSCALE:GREGORIAN
PRODID:-//MyApp//Calendar 1.0//EN
BEGIN:VEVENT
METHOD:PUBLISH
UID:54374@regionalniportaly.cz
DTSTAMP:20260421T220621Z
DTSTART;VALUE=DATE:20250516
DTEND;VALUE=DATE:20250517
SUMMARY:Divadelní představení - Manželstvím k lásce
DESCRIPTION:Co říkáte na sňatek z rozumu? Nesmysl?A jak by se Vám líbilo\, kdyby to byl dokonce sňatek z vědeckého popudu?Konverzační komedie v našem nastudování Vám představuje dva studenty psychologie\, kteří se před Vašimi zraky pustí do vědeckého experimentu. Do reality je berou jejich vlastní rodiče\, kteří jejich experimentálnímu chování nechtějí moc rozumět. A jak to celé dopadne uvidíte po přestávce.Tentokrát přestávka hraje\, protože nás přenese v čase o čtvrtstoletí vpřed. Potkáme za 25 let naše mladé? A jak se budou mít?Uvidíte sami.
LOCATION:Doubek
END:VEVENT
END:VCALENDAR