BEGIN:VCALENDAR
VERSION:2.0
CALSCALE:GREGORIAN
PRODID:-//MyApp//Calendar 1.0//EN
BEGIN:VEVENT
METHOD:PUBLISH
UID:54407@regionalniportaly.cz
DTSTAMP:20260421T143634Z
DTSTART;VALUE=DATE:20251111
DTEND;VALUE=DATE:20251112
SUMMARY:Pátá dohoda
DESCRIPTION:Autor: Don Miguel RuizV hlavní roli tohoto divadelního představení je Jaroslav Dušek.&nbsp\;Spoluúčinkují: Pjér La Š´éz a Zdeněk KonopásekSvětelný design Viktor Zborník\, zvuk Martin Dušek.&nbsp\;Pátá dohoda nás zavádí do hlubší roviny našeho sebeuvědomování a navrací nás k našemu vrozenému pravému já. Toto pokračování Čtyř dohod\, které změnily životy milionům lidí po &nbsp\;&nbsp\;celém světě\, připomíná největší dar\, kterým se můžeme obdarovat: svobodu být sám sebou.Pátá dohoda ve spolupráci s Klubem LávkaBased on the book The Fifth Agreement © 2010 by Miguel Angel Ruiz\, M.D.\, Jose Luis Ruiz\, and Janet Mills. Produced with permission of Amber-Allen Publishing\, Inc. P.O. Box 6657\, San Rafael\, CA 94903. All rights reserved.&nbsp\;Vstupné: 490 Kč.Jedná o benefiční představení a část benefičního výtěžku bude věnována organizaci&nbsp\; Domácí hospic Nablízku\, z. ú.\, Lysá nad Labem.
LOCATION:Čelákovice
END:VEVENT
END:VCALENDAR