BEGIN:VCALENDAR
VERSION:2.0
CALSCALE:GREGORIAN
PRODID:-//MyApp//Calendar 1.0//EN
BEGIN:VEVENT
METHOD:PUBLISH
UID:54413@regionalniportaly.cz
DTSTAMP:20260421T113516Z
DTSTART;VALUE=DATE:20251114
DTEND;VALUE=DATE:20251115
SUMMARY:Josef Dvořák a Marie Formáčková "Šmátrání v paměti"
DESCRIPTION:Josef Dvořák: Šmátrání v pamětiVečer plný humoru a dobré zábavyZábavné povídání Josefa Dvořáka\, nejznámějšího českého vodníka\, skvělého divadelního a filmového herce.Když se řekne&nbsp\;Josef Dvořák\, někdo si vzpomene na některého z jeho mnoha vodníků\, jiný na Dětský televizní kabaret či Maxipsa Fíka\, další na Svatopluka Kuřátka nebo jinou postavu z řady seriálů\, v nichž hrál.Josef Dvořák&nbsp\;je legenda\, herec a také dlouholetý principál vlastního divadla\, s nímž mnohokrát projel republiku křížem krážem.Patří k těm\, s nímž se nikdo nikdy nenudil a platí to dodnes.Hrají: Josef Dvořák\, Marie FormáčkováŽánr: zábavný pořadDélka: 90 min.
LOCATION:Velký Osek
END:VEVENT
END:VCALENDAR