BEGIN:VCALENDAR
VERSION:2.0
CALSCALE:GREGORIAN
PRODID:-//MyApp//Calendar 1.0//EN
BEGIN:VEVENT
METHOD:PUBLISH
UID:54702@regionalniportaly.cz
DTSTAMP:20260421T094646Z
DTSTART;VALUE=DATE:20251202
DTEND;VALUE=DATE:20251203
SUMMARY:JUBILEJNÍ VÁNOČNÍ KONCERT - Věra Martinová & Meritum
DESCRIPTION:První dáma českého country Věra Martinová míří do Čelákovic se svojí skupinou Meritum.VÁNOČNÍ KONCERTVánoční koncert Věry Martinové se skupinou Meritum v adventním období nabídne program složený ze svátečně laděných vánočních písniček z alba “Foukneme do svící” a současně i ty největší hity\, dále také písničky z posledního řadového alba “Meritum” a jistě nebude chybět překvapení.&nbsp\;Věra Martinová je výraznou osobností naší hudební scény s nezaměnitelným stylem\, kterou jistě není třeba dlouze představovat. Byť je Věra Martinová často nazývána „první dámou české country“ či „stálicí domácí populární hudby“\, sama se cítí být především muzikantkou tělem a duší\, která je otevřena všem hudebním inspiracím a vlivům. Chce své posluchače i nadále příjemně překvapovat pěknými písničkami s kvalitními texty.
LOCATION:Čelákovice
END:VEVENT
END:VCALENDAR