BEGIN:VCALENDAR
VERSION:2.0
CALSCALE:GREGORIAN
PRODID:-//MyApp//Calendar 1.0//EN
BEGIN:VEVENT
METHOD:PUBLISH
UID:55039@regionalniportaly.cz
DTSTAMP:20260421T200459Z
DTSTART;VALUE=DATE:20250808
DTEND;VALUE=DATE:20250809
SUMMARY:Bio Bezdíkov - Jak se nám to mohlo stát
DESCRIPTION:Po pětadvaceti letech od legendárních Pelíšků konečně znovu v kinech rozehrají Miroslav Donutil a Bolek&nbsp\;Polívka pořádnou komedii • Režisér Petr Zahrádka pro vás připravil herecký koncert u kterého se budete&nbsp\;královsky bavit • ČR • 2025 • 100 minut • mládeži přístupný------------------------------------------------Letní kino je součástí&nbsp\;Škvoreckého kulturního léta&nbsp\;• promítáme pod širým nebem i za deště • najdete nás v parku na Masarykově náměstí ve Škvorci •&nbsp\;občerstvení zajištěno již před představením&nbsp\;• na místě promítání nejsou lavičky\, a proto si kromě dobré nálady s sebou přineste&nbsp\;vlastní karimatky\, deky\, sedátka nebo lehátka------------------------------------------------Vstupenky zakoupíte na místě (platba možná i bezkontaktně platební kartou) nebo online zde&nbsp\;• využijte možnosti nákupu vstupenky předem\, vyhnete se frontě před vstupem • přijďte s dostatečným předstihem
LOCATION:Škvorec
END:VEVENT
END:VCALENDAR