BEGIN:VCALENDAR
VERSION:2.0
CALSCALE:GREGORIAN
PRODID:-//MyApp//Calendar 1.0//EN
BEGIN:VEVENT
METHOD:PUBLISH
UID:55040@regionalniportaly.cz
DTSTAMP:20260421T143336Z
DTSTART;VALUE=DATE:20250822
DTEND;VALUE=DATE:20250823
SUMMARY:Bio Bezdíkov - Kouzlo derby
DESCRIPTION:Pár dní po premiéře se mužete těšit na filmová novinku Petra Kolečka z fotbalového prostředí o tom\, že&nbsp\;v životě jsou i důležitější věci než fotbal\, akorát ten fotbal je tak nějak v tom životě taky • ČR • 2025 • 110&nbsp\;minut • nevhodné mládeži do 12 let------------------------------------------------Letní kino je součástí&nbsp\;Škvoreckého kulturního léta&nbsp\;• promítáme pod širým nebem i za deště • najdete nás v parku na Masarykově náměstí ve Škvorci •&nbsp\;občerstvení zajištěno již před představením&nbsp\;• na místě promítání nejsou lavičky\, a proto si kromě dobré nálady s sebou přineste&nbsp\;vlastní karimatky\, deky\, sedátka nebo lehátka------------------------------------------------Vstupenky zakoupíte na místě (platba možná i bezkontaktně platební kartou) nebo online zde&nbsp\;• využijte možnosti nákupu vstupenky předem\, vyhnete se frontě před vstupem • přijďte s dostatečným předstihem
LOCATION:Škvorec
END:VEVENT
END:VCALENDAR