BEGIN:VCALENDAR
VERSION:2.0
CALSCALE:GREGORIAN
PRODID:-//MyApp//Calendar 1.0//EN
BEGIN:VEVENT
METHOD:PUBLISH
UID:55041@regionalniportaly.cz
DTSTAMP:20260421T164112Z
DTSTART;VALUE=DATE:20250725
DTEND;VALUE=DATE:20250726
SUMMARY:Bio Bezdíkov - Moře na dvoře
DESCRIPTION:Laskavá komedie o tom\, život se může změnit během okamžiku a z moře času se může stát pouhá louže •&nbsp\;Nový film režiséra Martina Horského a Tomáše Hofmana (Ženy v běhu) s Ondřejem Vetchým v hlavní roli •&nbsp\;ČR • 2025 • 102 minut • mládeži přístupný------------------------------------------------Letní kino je součástí&nbsp\;Škvoreckého kulturního léta&nbsp\;• promítáme pod širým nebem i za deště • najdete nás v parku na Masarykově náměstí ve Škvorci •&nbsp\;občerstvení zajištěno již před představením&nbsp\;• na místě promítání nejsou lavičky\, a proto si kromě dobré nálady s sebou přineste&nbsp\;vlastní karimatky\, deky\, sedátka nebo lehátka------------------------------------------------Vstupenky zakoupíte na místě (platba možná i bezkontaktně platební kartou) nebo online zde&nbsp\;• využijte možnosti nákupu vstupenky předem\, vyhnete se frontě před vstupem • přijďte s dostatečným předstihem
LOCATION:Škvorec
END:VEVENT
END:VCALENDAR