BEGIN:VCALENDAR
VERSION:2.0
CALSCALE:GREGORIAN
PRODID:-//MyApp//Calendar 1.0//EN
BEGIN:VEVENT
METHOD:PUBLISH
UID:55042@regionalniportaly.cz
DTSTAMP:20260421T164338Z
DTSTART;VALUE=DATE:20250711
DTEND;VALUE=DATE:20250712
SUMMARY:Bio Bezdíkov - Tichá pošta
DESCRIPTION:Dobrodružný rodinný film o empatii\, rebelii\, radosti\, odvaze a naději v době\, kdy šance na přežití záleží&nbsp\;někdy jenom na štěstí. Skutečný příběh o odvaze malých i velkých hrdinů podle knižní předlohy spisovatele&nbsp\;Jiřího Stránského • ČR • 2025 • 97 minut • mládeži přístupný------------------------------------------------Letní kino je součástí&nbsp\;Škvoreckého kulturního léta&nbsp\;• promítáme pod širým nebem i za deště • najdete nás v parku na Masarykově náměstí ve Škvorci •&nbsp\;občerstvení zajištěno již před představením&nbsp\;• na místě promítání nejsou lavičky\, a proto si kromě dobré nálady s sebou přineste&nbsp\;vlastní karimatky\, deky\, sedátka nebo lehátka------------------------------------------------Vstupenky zakoupíte na místě (platba možná i bezkontaktně platební kartou) nebo online zde&nbsp\;• využijte možnosti nákupu vstupenky předem\, vyhnete se frontě před vstupem • přijďte s dostatečným předstihem
LOCATION:Škvorec
END:VEVENT
END:VCALENDAR