BEGIN:VCALENDAR
VERSION:2.0
CALSCALE:GREGORIAN
PRODID:-//MyApp//Calendar 1.0//EN
BEGIN:VEVENT
METHOD:PUBLISH
UID:55043@regionalniportaly.cz
DTSTAMP:20260421T220549Z
DTSTART;VALUE=DATE:20250614
DTEND;VALUE=DATE:20250615
SUMMARY:Bio Bezdíkov - Zlatovláska
DESCRIPTION:Po více než padesáti letech ožívá pohádková klasika Karla Jaromíra Erbena Zlatovláska ve zcela novém\,&nbsp\;dobrodružném zpracování\, které přináší vizuálně podmanivý svět plný speciálních efektů a kouzel\, unikátně&nbsp\;doplněný vtipnými dialogy „mluvících“ zvířat v čele se všudypřítomným pejskem Štístkem • ČR • 2025• 116 minut------------------------------------------------Letní kino je součástí&nbsp\;Škvoreckého kulturního léta&nbsp\;• promítáme pod širým nebem i za deště • najdete nás v parku na Masarykově náměstí ve Škvorci •&nbsp\;občerstvení zajištěno již před představením&nbsp\;• na místě promítání nejsou lavičky\, a proto si kromě dobré nálady s sebou přineste&nbsp\;vlastní karimatky\, deky\, sedátka nebo lehátka------------------------------------------------Vstupenky zakoupíte na místě (platba možná i bezkontaktně platební kartou) nebo online zde&nbsp\;• využijte možnosti nákupu vstupenky předem\, vyhnete se frontě před vstupem • přijďte s dostatečným předstihem
LOCATION:Škvorec
END:VEVENT
END:VCALENDAR