BEGIN:VCALENDAR
VERSION:2.0
CALSCALE:GREGORIAN
PRODID:-//MyApp//Calendar 1.0//EN
BEGIN:VEVENT
METHOD:PUBLISH
UID:55044@regionalniportaly.cz
DTSTAMP:20260421T180513Z
DTSTART;VALUE=DATE:20250906
DTEND;VALUE=DATE:20250907
SUMMARY:Festival - vítr do plachet pro Eleonorku
DESCRIPTION:Festival - vítr do plachet pro Eleonorku\, je charitativní festival na podporu Eleonorky Trčové\, které bylo diagnostikováno vzácné genetické onemocnění SMA\, neboli spinální svalová atrofie. Letos organizujeme 2. ročník. Pojďme dát pořádný vítr do plachet malé Eleonorce.I přesto\, že Eleonorce byla nemoc diagnostikována relativně včas a byla zahájena neprodleně léčba zvaná genová terapie\, čeká ji ještě nejasná a nelehká cesta k tomu\, aby&nbsp\;se jednou mohla sama postavit na nožičky a poznala tak\, co znamená "stát nohama pevně na zemi".Celým dnem nás provede Tereza Tobiášová. Doprovodný program zajištěn (dětský koutek\, malování na obličej\, lukostřelba\, skákací hrady\, exhibice freestyle fotbal Daniel Pražák&nbsp\;a Casting sport Kačka Marková)Program akce:11:30 otevření areálu13:00-14:00 Klaunice Jíťa14:00-15:00 Karel Hynek (STAND UP)15:00-15:15 Terka Vinklárková15:30-16:30 Katka Rej17:00-18:00 CROSSBAND18:30-19:00 Jirka Černý (Razz)19:30-21:30 František Nedvěd Ml.
LOCATION:Třebestovice
END:VEVENT
END:VCALENDAR