BEGIN:VCALENDAR
VERSION:2.0
CALSCALE:GREGORIAN
PRODID:-//MyApp//Calendar 1.0//EN
BEGIN:VEVENT
METHOD:PUBLISH
UID:55045@regionalniportaly.cz
DTSTAMP:20260421T201643Z
DTSTART;VALUE=DATE:20250830
DTEND;VALUE=DATE:20250831
SUMMARY:Bio Bezdíkov - Kocour v botách: Poslední přání
DESCRIPTION:Když máte k dispozici devět životů\, tak vám na tom\, že tu a tam něco odskáčete\, vůbec nezáleží\, zvlášť když&nbsp\;jste legendární hrdina\, který se dobrovolně vrhá do těch nejbláznivějších dobrodružství • Prázdniny&nbsp\;zakončíme animovanou legendou s výborným českým dabingem • USA • 2022 • 101 minut------------------------------------------------Letní kino je součástí&nbsp\;Škvoreckého kulturního léta&nbsp\;• promítáme pod širým nebem i za deště • najdete nás v parku na Masarykově náměstí ve Škvorci •&nbsp\;občerstvení zajištěno již před představením&nbsp\;• na místě promítání nejsou lavičky\, a proto si kromě dobré nálady s sebou přineste&nbsp\;vlastní karimatky\, deky\, sedátka nebo lehátka------------------------------------------------Vstupenky zakoupíte na místě (platba možná i bezkontaktně platební kartou) nebo online zde&nbsp\;• využijte možnosti nákupu vstupenky předem\, vyhnete se frontě před vstupem • přijďte s dostatečným předstihem
LOCATION:Škvorec
END:VEVENT
END:VCALENDAR