BEGIN:VCALENDAR
VERSION:2.0
CALSCALE:GREGORIAN
PRODID:-//MyApp//Calendar 1.0//EN
BEGIN:VEVENT
METHOD:PUBLISH
UID:55080@regionalniportaly.cz
DTSTAMP:20260421T125749Z
DTSTART;VALUE=DATE:20250823
DTEND;VALUE=DATE:20250824
SUMMARY:9. Country Kaninafest 2025
DESCRIPTION:COUNTRY KANINAFEST &nbsp\;je každoročním setkáváním hudebních skupin prezentující českou i americkou country a bluegrass muziku.Během letošního devátého ročníku na podiu opět&nbsp\;přivítáme špičky tohoto žánru jako kapela&nbsp\;BLUEEYES\,&nbsp\;COBBLESTONE\,&nbsp\;TAXMENI\,&nbsp\;WOMACKLEE\,&nbsp\;PROSPECT\,&nbsp\;FOREHAND &amp\; Míša Leicht\,&nbsp\;KUPA\,&nbsp\;FLASTR&nbsp\;a DOBRÝ STRUNY.O přestávkách mohou návštěvníci shlédnout vystoupení mažoretek\, taneční skupiny Zářící Ženy\, pistolnickou a lasovou show\, sokolníka s dravci. Oficiální zástupce automobilky JEEP představí jeden ze svých modelů\, stejně tak jako MOTO Indian. Zastoupení bude mít také jeden z&nbsp\;nejlepších výrobců hudebních nástrojů na světě\, pan Rosťa Čapek. Festival zahájí starosta města Mělníku\, Ing. Tomáš Martinec. Festivalem bude provázet moderátor Countryrádia\, populární Milan Schmidt\, o zvuk se postará profesionální zvukař\, pan Jiří Mašek.Noví partneři festivalu jsou firmy BUSCHMAN a FURCH guitars.Festival COUNTRY KANINAFEST byl v&nbsp\;roce 2022 zaštítěn radním pro kulturu Středočeského kraje a v letech 2023\, 2024\, 2025 festival zaštítila&nbsp\;&nbsp\;Hejtmanka&nbsp\;Středočeského kraje.Festival se každoročně koná na podporu Domova seniorů ve Mšeně.
LOCATION:Kanina
END:VEVENT
END:VCALENDAR