BEGIN:VCALENDAR
VERSION:2.0
CALSCALE:GREGORIAN
PRODID:-//MyApp//Calendar 1.0//EN
BEGIN:VEVENT
METHOD:PUBLISH
UID:55255@regionalniportaly.cz
DTSTAMP:20260421T164239Z
DTSTART;VALUE=DATE:20250614
DTEND;VALUE=DATE:20250615
SUMMARY:Embodiment coaching Masterclass s Markem Walshem
DESCRIPTION:INTENZIVNÍ WORKSHOP O INTELIGENCI EMBODIMENTUEMBODIMENT coaching MASTERCLASS s Markem WalshemIntenzivní dvoudenní workshop se světovým odborníkem v embodimentu Markem Walshem. Své tělo potkáte jako mocný subjekt poznání a vedení sebe i druhých. Workshop bude probíhat v anglickém jazyce s překladem do jazyka českého.Buďte součástí naší první EMBODIMENT skupiny a pomozte nám v ČR definovat pojem embodiment a podpořit zavedení práce s tímto tématem do všech oborů lidského života.Záměrem je do budoucna uspořádat v ČR kompletní výcvik EMBODIMENT KOUČŮ\, UČITELŮ a FACILITÁTORŮ\, který však může být velmi užitečný i pro úplného laika. Tělo máme všichni\, nebo lépe řečeno jsme i (nejen) tělem.Jsi trenér\, kouč\, lektor pohybu\, jogín\, terapeut nebo jen zvídavý člověk\, který chce rozšířit a zlepšit své dovednosti při práci s tělem a rozvinout vlastní body inteligenci\, která dnes schází u většiny lidí na úbytě? Tělo je dnes hlavně vnímáno jako objekt\, nástroj\, stroj\, artefakt\, ale jak ho začít vnímat jako základní a velmi dynamický a proměnlivý subjekt naší lidské zkušenosti?Kladete si i další otázky …. jak prohloubit vědomý kontakt se svým tělem a díky němu zvyšovat schopnost autoregulace našich automatických reakcí i dovolení si plného sebevyjádření? Ptáte se jak lépe navazovat kontakt i se svým okolím a být schopen vést nejen sebe\, ale i ostatní - 80% naší komunikace běží v nonverbální rovině a říká se\, že lidé zapomenou\, co jste jim řekli\, ale nikdy nezapomenou jak se s vámi cítili!Mark Walsh přezdívaný ve světě Mr. Embodiment\, renomovaný učitel a autor knih v oboru\, vysvětlí pojem embodiment inteligence a vybaví vás praktickými nástroji\, které můžete okamžitě použít ve své pracovní praxi i v běžném životě.Workshop vás vezme na hlubokou osobní cestu do ztělesněné praxe. I když bude i teorie a prostor pro otázky z hlavy\, tak zkušenostní učení je ústředním bodem školení. Budete mít také příležitost získat zpětnou vazbu přímo od Marka\, posílit vaši osobní praxi\, což vám umožní používat embodiment kreativněji a autentičtěji v práci i běžném životě.
LOCATION:Kunice
END:VEVENT
END:VCALENDAR