BEGIN:VCALENDAR
VERSION:2.0
CALSCALE:GREGORIAN
PRODID:-//MyApp//Calendar 1.0//EN
BEGIN:VEVENT
METHOD:PUBLISH
UID:55276@regionalniportaly.cz
DTSTAMP:20260421T200554Z
DTSTART;VALUE=DATE:20250815
DTEND;VALUE=DATE:20250816
SUMMARY:Zámek Křinec | komentované prohlídky
DESCRIPTION:Zámek KřinecRodinný zámek ze 17. století nacházející se pouhou hodinu jízdy od Prahy ve Středočeském kraji je ideálním místem pro ty\, kteří hledají unikátní prostředí pro svou svatbu\, oslavu\, firemní akci nebo jinou společenskou událost.Prohlídka křineckého zámku\, to je jedno velké vyprávění o velmi turbulentní historii šlechtických rodů\, které zámek v průběhu staletí postupně vlastnily a také ztratily. Jedná se o příběh vzletů\, pádů a skoro definitivním zániku této mimořádně skvostné památky\, která se díky nezměrnému úsilí současných majitelů\, dochovala pro nás\, a dochová se také generacím příštím.&nbsp\;Zámek nabízí dva prohlídkové okruhy\, v rámci nichž je možné si prohlédnout jak historickou a zrenovovanou část zámku s modrými salonky a&nbsp\;barokním sálem (zámecký okruh)\, nebo část s aktuálními výstavami\, kde je možné nahlédnout do místností\, které ještě rekonstrukcí neprošly a jsou tedy v "surovém" stavu (výstavní okruh).
LOCATION:Křinec
END:VEVENT
END:VCALENDAR