BEGIN:VCALENDAR
VERSION:2.0
CALSCALE:GREGORIAN
PRODID:-//MyApp//Calendar 1.0//EN
BEGIN:VEVENT
METHOD:PUBLISH
UID:55451@regionalniportaly.cz
DTSTAMP:20260421T164034Z
DTSTART;VALUE=DATE:20250628
DTEND;VALUE=DATE:20250629
SUMMARY:Letní kino na zámku Křinec - Ať žijí duchové
DESCRIPTION:Kouzelná atmosféra letního večera v kulisách prastarého zámku v obklopení zeleně mohutného platanu je opět tady!Letos promítáme digitálně zrestaurovanou verzi filmu Ať žijí duchové! PROGRAM VEČERA:18.00 | RODINNÁ PROHLÍDKA ZÁMKUkomentovaná prohlídka zámku pro rodiče a starší děti (omezený počet míst)21.00 | FILM AŤ ŽIJÍ DUCHOVÉ!digitálně zrestaurovaná verze oblíbeného filmu\, začínáme po setmění18.00-23.00 | ZÁBAVA NA NÁDVOŘÍtvořivá dílna pro děti\, fotokoutek\, ohýnek a buřty\, zahradní hry pro dospělé\, hudba\, stánek s občerstvenímSOUTĚŽ! Přijďte celá rodina (min. 4 lidé) v tematickém kostýmu a vyhrajte zámecký balíček! :-)NEJEN VEČER TO U NÁS ŽIJE!12.00 | 13.30 | 15.00 prohlídky zámku16.00 | komentovaná prohlídka výstavy Otisky věcí11.00-20.00 | zámecká kavárnaVSTUPENKY:1) S RODINNOU PROHLÍDKOU ZÁMKU2) BEZ RODINNÉ PROHLÍDKY ZÁMKUTěšíme se na všechny! :-)www.zamekkrinec.cz
LOCATION:Křinec
END:VEVENT
END:VCALENDAR