BEGIN:VCALENDAR
VERSION:2.0
CALSCALE:GREGORIAN
PRODID:-//MyApp//Calendar 1.0//EN
BEGIN:VEVENT
METHOD:PUBLISH
UID:55460@regionalniportaly.cz
DTSTAMP:20260421T162327Z
DTSTART;VALUE=DATE:20250731
DTEND;VALUE=DATE:20250801
SUMMARY:VEČERNÍ JÓGA | zámek Křinec
DESCRIPTION:Zámek KřinecRodinný zámek ze 17. století nacházející se pouhou hodinu jízdy od Prahy ve Středočeském kraji je ideálním místem pro ty\, kteří hledají unikátní prostředí pro svou svatbu\, oslavu\, firemní akci nebo jinou společenskou událost.ÚSPĚŠNÉ VEČERNÍ JÓGOVÉ VEČERY NA ZÁMECKÉM DVOŘE SE VRACEJÍ!Prodloužené devadesátiminutové lekce jemné flow jógy zakončené jóganidrou (vedenou relaxací) se uskuteční ve čtvrtek 31. 7. a 14. 8. od 18.30 hod. na zámku v Křinci.Lekci povede zkušená lektorka Jana Malá\, která se jógou zabývá již několik let. Na lekci doporučujeme vlastní podložku\, ručník\, přikrývku\, pití (případně je možné zakoupit v zámecké kavárně).&nbsp\;Cena prodloužené lekce je 150 Kč\, doporučujeme rezervace online.Moc se na všechny těšíme!&nbsp\;www.zamekkrinec.cz/
LOCATION:Křinec
END:VEVENT
END:VCALENDAR