BEGIN:VCALENDAR
VERSION:2.0
CALSCALE:GREGORIAN
PRODID:-//MyApp//Calendar 1.0//EN
BEGIN:VEVENT
METHOD:PUBLISH
UID:55694@regionalniportaly.cz
DTSTAMP:20260421T182639Z
DTSTART;VALUE=DATE:20250719
DTEND;VALUE=DATE:20250720
SUMMARY:Rožďalovické léto
DESCRIPTION:Rožďalovice se opět rozzáří všemi barvami hudby\, protože se blíží letní festival\, který je pravým zážitkem pro celou rodinu. Už se nemůžete dočkat\, až se necháte unášet tóny oblíbených melodií? Letošní ročník přináší vystoupení\, na která jen tak nezapomenete – na jednom pódiu se představí Martina Pártlová\, Poetika\, Crossband\, Siluety\, Elán revival Beer Rock! Na pódiu druhém si na své přijdou naši nejmenší Písničková show Míši Růžičkové\, animační program - oblíbené pohádkové postavičky v životní velikosti\, focení s maskoty\, soutěže\, hry a mnoho dalšího... zábavu zažije jistě celá rodina.\nChybět nebude 6. ROŽĎALOVICKÝ GULÁŠFEST.\nToto vše a mnoho více zažijete v příjemném prostředí\, kde budete mít možnost zakoupit si různé občerstvení i nápoje a samozřejmě nebude chybět ochutnávka gulášů od našich místních kuchařů\, kteří se zúčastní soutěže "Rožďalovický kotlík" o ten NEJ guláš.\nVSTUPENKY:\nhttps://shop.entradio.cz/151/events?theme=limeGreen&amp\;eventOverviewEnabled=true&amp\;primaryImageType=poster&amp\;showEventAvailability=status\nv předprodeji = do 30. 6. dospělá 300Kč\, dětská do 120cm zdarma\, od 120cm do 18 let 100kč\, držitelé ZTP + 1x doprovod ZDARMA\n= 1. 7. - 18.7. dospělá 500Kč\, dětská do 120cm zdarma\, od 120cm do 18 let 100kč\, držitelé ZTP + 1x doprovod ZDARMA\nna místě = dospělá 700kč/od 120cm do 18 let 200kč\, dětská do 120cm zdarma\, držitelé ZTP + 1x doprovod ZDARMA\nPřijďte si užívat den plný hudby a radosti s těmi\, které máte nejraději.\nNezapomeňte\, že tyto chvíle jsou nejcennější – hudba\, smích\, rodina a přátelé vše na jednom místě. Připojte se k nám a buďte součástí této nezapomenutelné události.\nA pokud vám toto připadá jako den\, který byste si nechtěli nechat ujít\, sdílejte náš příspěvek a pozvěte i vaše přátele a rodinu! Uvidíme se v Rožďalovicích – kde hudba spojuje srdce! 🎶👨‍👩‍👧‍👦🌟
LOCATION:Rožďalovice
END:VEVENT
END:VCALENDAR